BEGIN:VCALENDAR
VERSION:2.0
PRODID:-//eventon.com NONSGML v1.0//EN
CALSCALE:GREGORIAN
METHOD:PUBLISH
BEGIN:VEVENT
UID:69e4ce7a81b5a
DTSTAMP:20260419T124546Z
DTSTART:20260321T173000Z
DTEND:20260321T220000Z
LOCATION:
SUMMARY:Lunarally 2026
DESCRIPTION:Assemblea annuale soci 2025\nhttps://caipezzopontedilegno.it/ev
 ents/lunarally-2026/
URL:https://caipezzopontedilegno.it/events/lunarally-2026/
END:VEVENT
END:VCALENDAR