BEGIN:VCALENDAR
VERSION:2.0
PRODID:-//eventon.com NONSGML v1.0//EN
CALSCALE:GREGORIAN
METHOD:PUBLISH
BEGIN:VEVENT
UID:69e7380fc3e07
DTSTAMP:20260421T084047Z
DTSTART:20250722T070000Z
DTEND:20250725T160000Z
LOCATION:
SUMMARY:ALTA VIA DELL'ADAMELLO
DESCRIPTION:Assemblea annuale soci 2025\nhttps://caipezzopontedilegno.it/ev
 ents/alta-via-delladamello-2/
URL:https://caipezzopontedilegno.it/events/alta-via-delladamello-2/
END:VEVENT
END:VCALENDAR